BEGIN:VCALENDAR
VERSION:2.0
PRODID:-//wp-events-plugin.com//7.2.3.1//EN
BEGIN:VEVENT
UID:29@alinaloewenich.com
DTSTART;TZID=Europe/Berlin:20260426T110000
DTEND;TZID=Europe/Berlin:20260426T120000
DTSTAMP:20260420T170249Z
URL:https://alinaloewenich.com/veranstaltungen/splash-poznan-polen/
SUMMARY:SPLASH! {Poznan\, Polen}
DESCRIPTION:In der Musik-Theater-Performance „SPLASH!“ dreht sich alles
  ums Wasser. Wasser als Quell des Lebens mit dem wir urgewaltige Kraft\, S
 chönheit und Faszination verbinden oder einfach nur Freude und sinnliches
  Vergnügen. Aber auch der sorglose Umgang mit dieser wertvollen Ressource
  ist Teil der Geschichte über das Wasser\, die so untrennbar zu unserer e
 igenen gehört.\n\nIn „SPLASH!“ erzeugen die performenden Musiker*inne
 n unterschiedliche Klangräume und laden Kinder wie Erwachsene ein zum int
 eraktiven Spiel mit dem persönlichen und kulturellen Wasser-Gedächtnis.\
 n\nSPLASH ist eine Koproduktion von Theater Marabu\, Beethovenfest Bonn un
 d den Ruhrfestspielen Recklinghausen in Kooperation mit der Hochschule fü
 r Musik und Tanz Köln und der Ruhr-Universität Bochum. Gefördert von de
 r Beauftragten der Bundesregierung für Kultur und Medien im Programm Jupi
 ter – Darstellende Künste für junges Publikum – der Kulturstiftung d
 es Bundes.\n\nWeitere Infos unter: https://scenawspolna.csdpoznan.pl/
ATTACH;FMTTYPE=image/jpeg:https://alinaloewenich.com/wp-content/uploads/20
 24/12/splash.jpg
LOCATION:Scena Wspólna\, ul. Brandstaettera 1 (ul. Za Cytadelą)\, Poznań
 \, 61-663\, Polen
X-APPLE-STRUCTURED-LOCATION;VALUE=URI;X-ADDRESS=ul. Brandstaettera 1 (ul. Z
 a Cytadelą)\, Poznań\, 61-663\, Polen;X-APPLE-RADIUS=100;X-TITLE=Scena W
 spólna:geo:0,0
END:VEVENT
BEGIN:VTIMEZONE
TZID:Europe/Berlin
X-LIC-LOCATION:Europe/Berlin
BEGIN:DAYLIGHT
DTSTART:20260329T030000
TZOFFSETFROM:+0100
TZOFFSETTO:+0200
TZNAME:CEST
END:DAYLIGHT
END:VTIMEZONE
END:VCALENDAR