BEGIN:VCALENDAR
VERSION:2.0
PRODID:-//wp-events-plugin.com//7.2.3.1//EN
BEGIN:VEVENT
UID:5@alinaloewenich.com
DTSTART;TZID=Europe/Berlin:20241210T100000
DTEND;TZID=Europe/Berlin:20241210T110000
DTSTAMP:20241209T180440Z
URL:https://alinaloewenich.com/veranstaltungen/splash-4/
SUMMARY:SPLASH
DESCRIPTION:
ATTACH;FMTTYPE=image/jpeg:https://alinaloewenich.com/wp-content/uploads/20
 24/12/splash.jpg
LOCATION:https://www.theater-marabu.de
END:VEVENT
BEGIN:VTIMEZONE
TZID:Europe/Berlin
X-LIC-LOCATION:Europe/Berlin
BEGIN:STANDARD
DTSTART:20241027T020000
TZOFFSETFROM:+0200
TZOFFSETTO:+0100
TZNAME:CET
END:STANDARD
END:VTIMEZONE
END:VCALENDAR