BEGIN:VCALENDAR
VERSION:2.0
PRODID:-//wp-events-plugin.com//7.2.3.1//EN
BEGIN:VEVENT
UID:4@alinaloewenich.com
DTSTART;TZID=Europe/Berlin:20241209T100000
DTEND;TZID=Europe/Berlin:20241209T110000
DTSTAMP:20241125T180127Z
URL:https://alinaloewenich.com/veranstaltungen/splash-3/
SUMMARY:SPLASH!
DESCRIPTION:In der Musik-Theater-Performance „SPLASH!“ dreht sich alles
  ums Wasser. Wasser als Quell des Lebens mit dem wir urgewaltige Kraft\, S
 chönheit und Faszination verbinden oder einfach nur Freude und sinnliches
  Vergnügen. Aber auch der sorglose Umgang mit dieser wertvollen Ressource
  ist Teil der Geschichte über das Wasser\, die so untrennbar zu unserer e
 igenen gehört.\n\nIn „SPLASH!“ erzeugen die performenden Musiker*inne
 n unterschiedliche Klangräume und laden Kinder wie Erwachsene ein zum int
 eraktiven Spiel mit dem persönlichen und kulturellen Wasser-Gedächtnis.\
 n\n&nbsp\;\n\nMehr Infos unter: https://www.theater-marabu.de/stueck/splas
 h/
LOCATION:https://www.theater-marabu.de
END:VEVENT
BEGIN:VTIMEZONE
TZID:Europe/Berlin
X-LIC-LOCATION:Europe/Berlin
BEGIN:STANDARD
DTSTART:20241027T020000
TZOFFSETFROM:+0200
TZOFFSETTO:+0100
TZNAME:CET
END:STANDARD
END:VTIMEZONE
END:VCALENDAR